Workbook

Sheet Template
K1: Order Season 2025 | N1: =K1 -> Order Season 2025
B2: 1. Complete details in the sender information section (right), all fields are mandatory | K2: Sender Information
B3: 2. Complete details of your recipients in to the recipient information section (below), please fill all mandatory fields. | K3: Name | N3: Billing Address needed for invoice Mandatory Field | R3: Hampers & Co to supply Card Greeting text needed below (from cell O11)
B4: 3. Send your completed order to sales@hampersandco.com | K4: Company
B5: 4. We will invoice you for your order | K5: Phone Number
B6: 5. Accepted payments: AMEX, MasterCard, Visa, Bank Transfer. Credit only by prior arrangement. | K6: Email Address | N6: PO Number
B7: 6. Placing an order is acknowledgement of our Terms & Conditions, seen in these 2 links: | G7: Shipping
G8: Refund
B9: Recipient Information
B10: No. | C10: Recipient Name Mandatory Field | D10: Address Line 1 Mandatory Field | E10: Address Line 2 | F10: Address Line 3 | G10: Town / City Mandatory Field | H10: County / State / Region Mandatory Field | I10: Postcode Mandatory Field | J10: Country Mandatory Field | K10: Shipping Mandatory Field | L10: Recipient Phone must be local to the country of delivery Mandatory Field | M10: Recipient Email Address Mandatory Field | N10: Hamper/Gift Mandatory Field | O10: SKU | P10: Quantity to this Recipient Mandatory Field | Q10: Pallet Delivery | R10: Delivery Date Mandatory Field | S10: Greeting Card Message if Hampers & Co are supplying the greeting card

Sheet Summary of Hampers & Shipping
A1: Name | B1: =Template!L3 -> 0
A2: Company | B2: =Template!L4 -> 0
A3: Contact | B3: =Template!L5 -> 0
A4: Email Address | B4: =Template!L6 -> 0
A5: PO Number | B5: =Template!O6 -> 0
B8: Hamper Summary | G8: Shipping Summary
B10: {=_xlfn.GROUPBY(Template!O11:O305,Template!P11:P305,_xleta.SUM)} -> 0 | C10: 0 | G10: {=_xlfn.GROUPBY(Template!K11:K305,Template!P11:P305,_xleta.SUM)} -> 0 | H10: 0
B11: Total | C11: 0 | G11: Total | H11: 0
B12: #N/A | C12: #N/A | G12: #N/A | H12: #N/A
G13: #N/A | H13: #N/A

Sheet Hamper SKUs 01-10-2024
A1: Name | B1: SKU | C1: Selling Price incl. VAT | D1: Do Not Touch This Column (FORMULA) | E1: Selling Price incl. VAT
A2: Select from dropdown | C2: Selling Price incl. VAT | D2: Select from dropdown
A3: "The Real Creel "- Irish Whiskey Hamper | B3: 12030-01 | C3: 135 | D3: =A3&" €"&C3 -> "The Real Creel "- Irish Whiskey Hamper €135 | E3: 12030-01
A4: 4 Bottle Wicker Wine Carrier | B4: 12131-01 | C4: 95 | D4: =A4&" €"&C4 -> 4 Bottle Wicker Wine Carrier €95 | E4: 12131-01
A5: A Beautiful Baby Hamper | B5: 12418-01 | C5: 170 | D5: =A5&" €"&C5 -> A Beautiful Baby Hamper €170 | E5: 12418-01
A6: A Beautiful Morning Bouquet of Flowers | B6: 12445-01 | C6: 68 | D6: =A6&" €"&C6 -> A Beautiful Morning Bouquet of Flowers €68 | E6: 12445-01
A7: A Hamper Basket of Blissful Treats | B7: 12143-01 | C7: 95 | D7: =A7&" €"&C7 -> A Hamper Basket of Blissful Treats €95 | E7: 12143-01
A8: A Nice Cup of Tea | B8: 12862-00 | C8: 21 | D8: =A8&" €"&C8 -> A Nice Cup of Tea €21 | E8: 12862-00
A9: A Taste of Christmas Hamper | B9: 12049-01 | C9: 63 | D9: =A9&" €"&C9 -> A Taste of Christmas Hamper €63 | E9: 12049-01
A10: A Taste of Harmony Wellness Gift - Red Wine | B10: 12864-01 | C10: 52 | D10: =A10&" €"&C10 -> A Taste of Harmony Wellness Gift - Red Wine €52 | E10: 12864-01
A11: A Taste of Harmony Wellness Gift - White Wine | B11: 12865-01 | C11: 52 | D11: =A11&" €"&C11 -> A Taste of Harmony Wellness Gift - White Wine €52 | E11: 12865-01
A12: A Wine Lovers Gift Basket | B12: 12104-01 | C12: 75 | D12: =A12&" €"&C12 -> A Wine Lovers Gift Basket €75 | E12: 12104-01
A13: Afternoon Tea Gift Set | B13: 12116-01 | C13: 35 | D13: =A13&" €"&C13 -> Afternoon Tea Gift Set €35 | E13: 12116-01
A14: Afternoon Tea with Prosecco | B14: 12089-01 | C14: 46 | D14: =A14&" €"&C14 -> Afternoon Tea with Prosecco €46 | E14: 12089-01
... A131: Green Spot Single Pot Still Irish Whiskey | B131: 12287-01 | C131: 69 | D131: =A131&" €"&C131 -> Green Spot Single Pot Still Irish Whiskey €69 | E131: 12287-01
A132: Hampers & Co Gift Card | C132: 30 | D132: =A132&" €"&C132 -> Hampers & Co Gift Card €30
A133: Handmade Soap Company Reed Diffuser - Lemongrass & Cedar Wood | B133: 12094-01 | C133: 32 | D133: =A133&" €"&C133 -> Handmade Soap Company Reed Diffuser - Lemongrass & Cedar Wood €32 | E133: 12094-01
A134: Happy Birthday Gift | B134: 12036-01 | C134: 43 | D134: =A134&" €"&C134 -> Happy Birthday Gift €43 | E134: 12036-01
A135: Happy Birthday Gift for Her | B135: 12488-01 | C135: 49 | D135: =A135&" €"&C135 -> Happy Birthday Gift for Her €49 | E135: 12488-01
A136: Happy Birthday Gift for Him | B136: 12175-01 | C136: 48 | D136: =A136&" €"&C136 -> Happy Birthday Gift for Him €48 | E136: 12175-01
A137: Happy Birthday Gift with Prosecco | B137: 12037-01 | C137: 55 | D137: =A137&" €"&C137 -> Happy Birthday Gift with Prosecco €55 | E137: 12037-01
A138: Happy Easter Hamper | B138: 12453-01 | C138: 39 | D138: =A138&" €"&C138 -> Happy Easter Hamper €39 | E138: 12453-01
A139: Herb Dublin Rhubarb & Fresh Garden Mint Gift Set | B139: 12836-01 | C139: 39.95 | D139: =A139&" €"&C139 -> Herb Dublin Rhubarb & Fresh Garden Mint Gift Set €39,95 | E139: 12836-01
A140: Horizon Gold Dipped Wine Glasses | B140: 12272-01 | C140: 45 | D140: =A140&" €"&C140 -> Horizon Gold Dipped Wine Glasses €45 | E140: 12272-01
A141: Hugs & Kisses Wooden Memories Keepsake Box | B141: 12320-01 | C141: 16.95 | D141: =A141&" €"&C141 -> Hugs & Kisses Wooden Memories Keepsake Box €16,95 | E141: 12320-01
A142: Irish Beer Crate | B142: 12019-01 | C142: 38 | D142: =A142&" €"&C142 -> Irish Beer Crate €38 | E142: 12019-01
A143: Irish Brews & Bites Gift Crate | B143: 12020-01 | C143: 65 | D143: =A143&" €"&C143 -> Irish Brews & Bites Gift Crate €65 | E143: 12020-01
A144: Irish Farmers Market Gift Bag | B144: 12147-01 | C144: 63 | D144: =A144&" €"&C144 -> Irish Farmers Market Gift Bag €63 | E144: 12147-01
... A146: Irish Smoked Salmon & Champagne Gift | B146: 12157-01 | C146: 98 | D146: =A146&" €"&C146 -> Irish Smoked Salmon & Champagne Gift €98 | E146: 12157-01
A147: Item Customizations | C147: 0.01 | D147: =A147&" €"&C147 -> Item Customizations €0,01
A148: It's a Boy! Baby Hamper | B148: 12438-01 | C148: 55 | D148: =A148&" €"&C148 -> It's a Boy! Baby Hamper €55 | E148: 12438-01
A149: Its a Boy! Baby Hamper with Prosecco | B149: 12439-01 | C149: 68 | D149: =A149&" €"&C149 -> Its a Boy! Baby Hamper with Prosecco €68 | E149: 12439-01
A150: It's a Girl! Baby Hamper | B150: 12436-01 | C150: 55 | D150: =A150&" €"&C150 -> It's a Girl! Baby Hamper €55 | E150: 12436-01
A151: It's a Girl! Baby Hamper With Prosecco | B151: 12437-01 | C151: 68 | D151: =A151&" €"&C151 -> It's a Girl! Baby Hamper With Prosecco €68 | E151: 12437-01
A152: Jane Darcy Tranquillity Gift Set | B152: 12289-01 | C152: 50 | D152: =A152&" €"&C152 -> Jane Darcy Tranquillity Gift Set €50 | E152: 12289-01
A153: Jelly Cat Cordy Elephant Activity Toy | B153: 12211-01 | C153: 34 | D153: =A153&" €"&C153 -> Jelly Cat Cordy Elephant Activity Toy €34 | E153: 12211-01
A154: Jelly Cat Fuddlewuddle Baby Gift | B154: 12212-01 | C154: 28 | D154: =A154&" €"&C154 -> Jelly Cat Fuddlewuddle Baby Gift €28 | E154: 12212-01
A155: Jellycat Beatnik Buddy Sausage Dog | B155: 12317-01 | C155: 29 | D155: =A155&" €"&C155 -> Jellycat Beatnik Buddy Sausage Dog €29 | E155: 12317-01
A156: Jingle Bells Christmas Hamper | B156: 12045-01 | C156: 55 | D156: =A156&" €"&C156 -> Jingle Bells Christmas Hamper €55 | E156: 12045-01
A157: Jingle Bells non Alcoholic Christmas Hamper | B157: 12076-01 | C157: 45 | D157: =A157&" €"&C157 -> Jingle Bells non Alcoholic Christmas Hamper €45 | E157: 12076-01
...

Sheet Shipping 2025
A1: Select from Dropdown | B1: Courier | F1: Sort Shipping | G1: =SUM(F2:F51) -> 0 | I1: Select from Dropdown
A2: Ireland €7.95/Shipment (EX VAT €6.46) | B2: DPD | F2: =SUMPRODUCT(SUMIF(Template!$K$10:$K$212,A2,Template!$O$10:$O$212)) -> 0 | I2: Ireland
A3: Northern Ireland €7.95/Shipment (EX VAT €6.46) | B3: DPD | F3: =SUMPRODUCT(SUMIF(Template!$K$10:$K$212,A3,Template!$O$10:$O$212)) -> 0 | I3: Northern Ireland
A4: Ireland/NI €98.40/Pallet Shipment (EX VAT €80.00) | B4: Pallet network | F4: =SUMPRODUCT(SUMIF(Template!$K$10:$K$212,A4,Template!$O$10:$O$212)) -> 0
A5: Australia €105/Shipment (EX VAT €85.36) | B5: DHL | F5: =SUMPRODUCT(SUMIF(Template!$K$10:$K$212,A5,Template!$O$10:$O$212)) -> 0 | I5: Australia
A6: Austria €30.00 /Shipment (EX VAT €24.39 | B6: DPD | F6: =SUMPRODUCT(SUMIF(Template!$K$10:$K$212,A6,Template!$O$10:$O$212)) -> 0 | I6: Austria
A7: Belgium €30.00 /Shipment (EX VAT €24.39 | B7: DPD | F7: =SUMPRODUCT(SUMIF(Template!$K$10:$K$212,A7,Template!$O$10:$O$212)) -> 0 | I7: Belgium
A8: Bosnia-Herzgovina €105/Shipment (EX VAT €85.36) | B8: DHL | F8: =SUMPRODUCT(SUMIF(Template!$K$10:$K$212,A8,Template!$O$10:$O$212)) -> 0 | I8: Bosnia-Herzgovina
A9: Bulgaria €65/Shipment (EX VAT €52.85) | B9: DPD | F9: =SUMPRODUCT(SUMIF(Template!$K$10:$K$212,A9,Template!$O$10:$O$212)) -> 0 | I9: Bulgaria
A10: Canada €105/Shipment (EX VAT €85.36) | B10: DHL | F10: =SUMPRODUCT(SUMIF(Template!$K$10:$K$212,A10,Template!$O$10:$O$212)) -> 0 | I10: Canada
A11: China €182/Shipment (EX VAT €147.97) | B11: DHL | F11: =SUMPRODUCT(SUMIF(Template!$K$10:$K$212,A11,Template!$O$10:$O$212)) -> 0 | I11: China
A12: Croatia €65/Shipment (EX VAT €52.85) | B12: DPD | F12: =SUMPRODUCT(SUMIF(Template!$K$10:$K$212,A12,Template!$O$10:$O$212)) -> 0 | I12: Croatia
A13: Cyprus €221/Shipment (EX VAT €179.67) | B13: DHL | F13: =SUMPRODUCT(SUMIF(Template!$K$10:$K$212,A13,Template!$O$10:$O$212)) -> 0 | I13: Cyprus
A14: Czech Republic €30.00 /Shipment (EX VAT €24.39 | B14: DPD | F14: =SUMPRODUCT(SUMIF(Template!$K$10:$K$212,A14,Template!$O$10:$O$212)) -> 0 | I14: Czech Republic
A15: Denmark €30.00 /Shipment (EX VAT €24.39 | B15: DPD | F15: =SUMPRODUCT(SUMIF(Template!$K$10:$K$212,A15,Template!$O$10:$O$212)) -> 0 | I15: Denmark
A16: Estonia €42/Shipment (EX VAT €34.15) | B16: DPD | F16: =SUMPRODUCT(SUMIF(Template!$K$10:$K$212,A16,Template!$O$10:$O$212)) -> 0 | I16: Estonia
... A22: Hungary €38/Shipment (EX VAT €30.89) | B22: DPD | F22: =SUMPRODUCT(SUMIF(Template!$K$10:$K$212,A22,Template!$O$10:$O$212)) -> 0 | I22: Hungary
A23: Iceland €105/Shipment (EX VAT €85.36) | B23: DHL | I23: Iceland
B24: Isle of Man €65/Shipment (EX VAT €52.85) | F24: =SUMPRODUCT(SUMIF(Template!$K$10:$K$212,A24,Template!$O$10:$O$212)) -> 0 | I24: Italy
A25: Italy €42/Shipment (EX VAT €34.15) | B25: DPD | F25: =SUMPRODUCT(SUMIF(Template!$K$10:$K$212,A25,Template!$O$10:$O$212)) -> 0 | I25: Latvia
A26: Latvia €42/Shipment (EX VAT €34.15) | B26: DPD | F26: =SUMPRODUCT(SUMIF(Template!$K$10:$K$212,A26,Template!$O$10:$O$212)) -> 0 | I26: Liechtenstein
A27: Liechtenstein €105/Shipment (EX VAT €85.36) | B27: DHL | F27: =SUMPRODUCT(SUMIF(Template!$K$10:$K$212,A27,Template!$O$10:$O$212)) -> 0 | I27: Lithuania
A28: Lithuania €38/Shipment (EX VAT €30.89) | B28: DPD | F28: =SUMPRODUCT(SUMIF(Template!$K$10:$K$212,A28,Template!$O$10:$O$212)) -> 0 | I28: Luxemberg
A29: Luxemberg €30.00 /Shipment (EX VAT €24.39 | B29: DPD | F29: =SUMPRODUCT(SUMIF(Template!$K$10:$K$212,A29,Template!$O$10:$O$212)) -> 0 | I29: Malaysia
A30: Malaysia €126/Shipment (EX VAT €102.44) | B30: DHL | F30: =SUMPRODUCT(SUMIF(Template!$K$10:$K$212,A30,Template!$O$10:$O$212)) -> 0 | I30: Malta
A31: Malta €127/Shipment (EX VAT €103.25) | B31: DHL | F31: =SUMPRODUCT(SUMIF(Template!$K$10:$K$212,A31,Template!$O$10:$O$212)) -> 0 | I31: Moldovia
A32: Moldovia €105/Shipment (EX VAT €85.36) | B32: DPD | F32: =SUMPRODUCT(SUMIF(Template!$K$10:$K$212,A32,Template!$O$10:$O$212)) -> 0 | I32: Netherlands
A33: Netherlands €30.00 /Shipment (EX VAT €24.39 | B33: DPD | I33: New Zealand
A34: New Zealand €105/Shipment (EX VAT €85.36) | B34: DHL | F34: =SUMPRODUCT(SUMIF(Template!$K$10:$K$212,A34,Template!$O$10:$O$212)) -> 0 | I34: Poland
A35: Poland €30.00 /Shipment (EX VAT €24.39 | B35: DPD | F35: =SUMPRODUCT(SUMIF(Template!$K$10:$K$212,A35,Template!$O$10:$O$212)) -> 0 | I35: Portugal
A36: Portugal €65.00/Shipment (EX VAT €52.85) | B36: DPD | F36: =SUMPRODUCT(SUMIF(Template!$K$10:$K$212,A36,Template!$O$10:$O$212)) -> 0 | I36: Montenegro
A37: Montenegro €105/Shipment (EX VAT €85.36) | B37: DHL | F37: =SUMPRODUCT(SUMIF(Template!$K$10:$K$212,A37,Template!$O$10:$O$212)) -> 0 | I37: Romania
A38: Romania €65/Shipment (EX VAT €52.85) | B38: DPD | F38: =SUMPRODUCT(SUMIF(Template!$K$10:$K$212,A38,Template!$O$10:$O$212)) -> 0 | I38: Singapore
B39: Serbia €65.00/Shipment (EX VAT €52.85) | C39: No Delivery available | F39: =SUMPRODUCT(SUMIF(Template!$K$10:$K$212,B39,Template!$O$10:$O$212)) -> 0 | I39: Slovakia
A40: Singapore €126./Shipment (EX VAT €102.44) | B40: DHL | F40: =SUMPRODUCT(SUMIF(Template!$K$10:$K$212,A40,Template!$O$10:$O$212)) -> 0 | I40: Slovenia
A41: Slovakia €38/Shipment (EX VAT €30.89) | B41: DPD | F41: =SUMPRODUCT(SUMIF(Template!$K$10:$K$212,A41,Template!$O$10:$O$212)) -> 0 | I41: South Korea
A42: Slovenia €38/Shipment (EX VAT €30.89) | B42: DPD | F42: =SUMPRODUCT(SUMIF(Template!$K$10:$K$212,A42,Template!$O$10:$O$212)) -> 0 | I42: Spain
A43: South Korea €182/Shipment (EX VAT €147.97) | B43: DHL | F43: =SUMPRODUCT(SUMIF(Template!$K$10:$K$212,A43,Template!$O$10:$O$212)) -> 0 | I43: Sweden
A44: Spain €42/Shipment (EX VAT €34.15) | B44: DPD | F44: =SUMPRODUCT(SUMIF(Template!$K$10:$K$212,A44,Template!$O$10:$O$212)) -> 0 | I44: Switzerland
A45: Sweden €42/Shipment (EX VAT €34.15) | B45: DPD | F45: =SUMPRODUCT(SUMIF(Template!$K$10:$K$212,A45,Template!$O$10:$O$212)) -> 0 | I45: Tunisia
...

Sheet Grippy
A1: Order Number | B1: Customer ID (ideally the database ID) | C1: Item (Row) Number | D1: Recipient Name | E1: Address Line 1 | F1: Address Line 2 | G1: Post Code | H1: City | I1: County | J1: Country | K1: Recipient Phone Number | L1: Hamper Design SKU | M1: Quantity Ordered | N1: Requested Delivery Date | O1: Delivery Method
A2: =Template!#REF! -> #REF! | B2: =Template!$L$4 -> 0 | C2: =Template!#REF! -> #REF! | D2: =Template!#REF! -> #REF! | E2: =Template!#REF! -> #REF! | F2: =Template!#REF! -> #REF! | G2: =Template!#REF! -> #REF! | H2: =Template!#REF! -> #REF! | I2: =Template!#REF! -> #REF! | J2: =Template!#REF! -> #REF! | ... O2: =Template!#REF! -> #REF!
A3: =Template!#REF! -> #REF! | B3: =Template!$L$4 -> 0 | C3: =Template!#REF! -> #REF! | D3: =Template!#REF! -> #REF! | E3: =Template!#REF! -> #REF! | F3: =Template!#REF! -> #REF! | G3: =Template!#REF! -> #REF! | H3: =Template!#REF! -> #REF! | I3: =Template!#REF! -> #REF! | J3: =Template!#REF! -> #REF! | ... O3: =Template!#REF! -> #REF!
A4: =Template!#REF! -> #REF! | B4: =Template!$L$4 -> 0 | C4: =Template!B11 -> 0 | D4: =Template!C11 -> 0 | E4: =Template!D11 -> 0 | F4: =Template!E11 -> 0 | G4: =Template!I11 -> 0 | H4: =Template!G11 -> 0 | I4: =Template!H11 -> 0 | J4: =Template!J11 -> 0 | K4: =Template!L11 -> 0 | L4: =Template!O11 -> 0 | M4: =Template!P11 -> 0 | N4: =Template!R11 -> 0 | O4: =Template!Q11 -> 0
A5: =Template!#REF! -> #REF! | B5: =Template!$L$4 -> 0 | C5: =Template!B13 -> 0 | D5: =Template!C13 -> 0 | E5: =Template!D13 -> 0 | F5: =Template!E13 -> 0 | G5: =Template!#REF! -> #REF! | H5: =Template!#REF! -> #REF! | I5: =Template!H13 -> 0 | J5: =Template!J13 -> 0 | K5: =Template!#REF! -> #REF! | L5: =Template!O13 -> 0 | M5: =Template!P13 -> 0 | N5: =Template!R13 -> 0 | O5: =Template!Q13 -> 0
A6: =Template!#REF! -> #REF! | B6: =Template!$L$4 -> 0 | C6: =Template!B14 -> 0 | D6: =Template!C14 -> 0 | E6: =Template!D14 -> 0 | F6: =Template!E14 -> 0 | G6: =Template!I14 -> 0 | H6: =Template!G14 -> 0 | I6: =Template!H14 -> 0 | J6: =Template!J14 -> 0 | K6: =Template!L14 -> 0 | L6: =Template!O14 -> 0 | M6: =Template!P14 -> 0 | N6: =Template!R14 -> 0 | O6: =Template!Q14 -> 0
A7: =Template!#REF! -> #REF! | B7: =Template!$L$4 -> 0 | C7: =Template!B16 -> 0 | D7: =Template!C16 -> 0 | E7: =Template!D16 -> 0 | F7: =Template!E16 -> 0 | G7: =Template!I16 -> 0 | H7: =Template!G16 -> 0 | I7: =Template!H16 -> 0 | J7: =Template!J16 -> 0 | K7: =Template!L16 -> 0 | L7: =Template!O16 -> 0 | M7: =Template!P16 -> 0 | N7: =Template!R16 -> 0 | O7: =Template!Q16 -> 0
A8: =Template!#REF! -> #REF! | B8: =Template!$L$4 -> 0 | C8: =Template!B17 -> 0 | D8: =Template!F13 -> 0 | E8: =Template!D17 -> 0 | F8: =Template!E17 -> 0 | G8: =Template!I17 -> 0 | H8: =Template!G17 -> 0 | I8: =Template!H17 -> 0 | J8: =Template!J17 -> 0 | K8: =Template!L17 -> 0 | L8: =Template!O17 -> 0 | M8: =Template!P17 -> 0 | N8: =Template!R17 -> 0 | O8: =Template!Q17 -> 0
A9: =Template!#REF! -> #REF! | B9: =Template!$L$4 -> 0 | C9: =Template!B18 -> 0 | D9: =Template!C18 -> 0 | E9: =Template!D18 -> 0 | F9: =Template!E18 -> 0 | G9: =Template!I18 -> 0 | H9: =Template!G18 -> 0 | I9: =Template!H18 -> 0 | J9: =Template!J18 -> 0 | K9: =Template!L18 -> 0 | L9: =Template!O18 -> 0 | M9: =Template!P18 -> 0 | N9: =Template!R18 -> 0 | O9: =Template!Q18 -> 0
A10: =Template!#REF! -> #REF! | B10: =Template!$L$4 -> 0 | C10: =Template!B19 -> 0 | D10: =Template!G13 -> 0 | E10: =Template!D19 -> 0 | F10: =Template!E19 -> 0 | G10: =Template!I19 -> 0 | H10: =Template!G19 -> 0 | I10: =Template!H19 -> 0 | J10: =Template!J19 -> 0 | K10: =Template!L19 -> 0 | L10: =Template!O19 -> 0 | M10: =Template!P19 -> 0 | N10: =Template!R19 -> 0 | O10: =Template!Q19 -> 0
A11: =Template!#REF! -> #REF! | B11: =Template!$L$4 -> 0 | C11: =Template!B20 -> 0 | D11: =Template!I13 -> 0 | E11: =Template!D20 -> 0 | F11: =Template!E20 -> 0 | G11: =Template!I20 -> 0 | H11: =Template!G20 -> 0 | I11: =Template!H20 -> 0 | J11: =Template!J20 -> 0 | K11: =Template!L20 -> 0 | L11: =Template!O20 -> 0 | M11: =Template!P20 -> 0 | N11: =Template!R20 -> 0 | O11: =Template!Q20 -> 0
A12: =Template!#REF! -> #REF! | B12: =Template!$L$4 -> 0 | C12: =Template!B21 -> 0 | D12: =Template!L13 -> 0 | E12: =Template!D21 -> 0 | F12: =Template!E21 -> 0 | G12: =Template!I21 -> 0 | H12: =Template!G21 -> 0 | I12: =Template!H21 -> 0 | J12: =Template!J21 -> 0 | K12: =Template!L21 -> 0 | L12: =Template!O21 -> 0 | M12: =Template!P21 -> 0 | N12: =Template!R21 -> 0 | O12: =Template!Q21 -> 0
A13: =Template!#REF! -> #REF! | B13: =Template!$L$4 -> 0 | C13: =Template!B22 -> 0 | D13: =Template!C22 -> 0 | E13: =Template!D22 -> 0 | F13: =Template!E22 -> 0 | G13: =Template!I22 -> 0 | H13: =Template!G22 -> 0 | I13: =Template!H22 -> 0 | J13: =Template!J22 -> 0 | K13: =Template!L22 -> 0 | L13: =Template!O22 -> 0 | M13: =Template!P22 -> 0 | N13: =Template!R22 -> 0 | O13: =Template!Q22 -> 0
A14: =Template!#REF! -> #REF! | B14: =Template!$L$4 -> 0 | C14: =Template!B23 -> 0 | D14: =Template!C23 -> 0 | E14: =Template!D23 -> 0 | F14: =Template!E23 -> 0 | G14: =Template!I23 -> 0 | H14: =Template!G23 -> 0 | I14: =Template!H23 -> 0 | J14: =Template!J23 -> 0 | K14: =Template!L23 -> 0 | L14: =Template!O23 -> 0 | M14: =Template!P23 -> 0 | N14: =Template!R23 -> 0 | O14: =Template!Q23 -> 0
A15: =Template!#REF! -> #REF! | B15: =Template!$L$4 -> 0 | C15: =Template!B24 -> 0 | D15: =Template!C24 -> 0 | E15: =Template!D24 -> 0 | F15: =Template!E24 -> 0 | G15: =Template!I24 -> 0 | H15: =Template!G24 -> 0 | I15: =Template!H24 -> 0 | J15: =Template!J24 -> 0 | K15: =Template!L24 -> 0 | L15: =Template!O24 -> 0 | M15: =Template!P24 -> 0 | N15: =Template!R24 -> 0 | O15: =Template!Q24 -> 0
A16: =Template!#REF! -> #REF! | B16: =Template!$L$4 -> 0 | C16: =Template!B25 -> 0 | D16: =Template!C25 -> 0 | E16: =Template!D25 -> 0 | F16: =Template!E25 -> 0 | G16: =Template!I25 -> 0 | H16: =Template!G25 -> 0 | I16: =Template!H25 -> 0 | J16: =Template!J25 -> 0 | K16: =Template!L25 -> 0 | L16: =Template!O25 -> 0 | M16: =Template!P25 -> 0 | N16: =Template!R25 -> 0 | O16: =Template!Q25 -> 0
A17: =Template!#REF! -> #REF! | B17: =Template!$L$4 -> 0 | C17: =Template!B26 -> 0 | D17: =Template!C26 -> 0 | E17: =Template!D26 -> 0 | F17: =Template!E26 -> 0 | G17: =Template!I26 -> 0 | H17: =Template!G26 -> 0 | I17: =Template!H26 -> 0 | J17: =Template!J26 -> 0 | K17: =Template!L26 -> 0 | L17: =Template!O26 -> 0 | M17: =Template!P26 -> 0 | N17: =Template!R26 -> 0 | O17: =Template!Q26 -> 0
A18: =Template!#REF! -> #REF! | B18: =Template!$L$4 -> 0 | C18: =Template!B27 -> 0 | D18: =Template!C27 -> 0 | E18: =Template!D27 -> 0 | F18: =Template!E27 -> 0 | G18: =Template!I27 -> 0 | H18: =Template!G27 -> 0 | I18: =Template!H27 -> 0 | J18: =Template!J27 -> 0 | K18: =Template!L27 -> 0 | L18: =Template!O27 -> 0 | M18: =Template!P27 -> 0 | N18: =Template!R27 -> 0 | O18: =Template!Q27 -> 0
A19: =Template!#REF! -> #REF! | B19: =Template!$L$4 -> 0 | C19: =Template!B34 -> 0 | D19: =Template!C34 -> 0 | E19: =Template!D34 -> 0 | F19: =Template!E34 -> 0 | G19: =Template!I34 -> 0 | H19: =Template!G34 -> 0 | I19: =Template!H34 -> 0 | J19: =Template!J34 -> 0 | K19: =Template!L34 -> 0 | L19: =Template!O34 -> 0 | M19: =Template!P34 -> 0 | N19: =Template!R34 -> 0 | O19: =Template!Q34 -> 0
A20: =Template!#REF! -> #REF! | B20: =Template!$L$4 -> 0 | C20: =Template!B36 -> 0 | D20: =Template!C36 -> 0 | E20: =Template!D36 -> 0 | F20: =Template!E36 -> 0 | G20: =Template!I36 -> 0 | H20: =Template!G36 -> 0 | I20: =Template!H36 -> 0 | J20: =Template!J36 -> 0 | K20: =Template!L36 -> 0 | L20: =Template!O36 -> 0 | M20: =Template!P36 -> 0 | N20: =Template!R36 -> 0 | O20: =Template!Q36 -> 0
A21: =Template!#REF! -> #REF! | B21: =Template!$L$4 -> 0 | C21: =Template!B37 -> 0 | D21: =Template!C37 -> 0 | E21: =Template!D37 -> 0 | F21: =Template!E37 -> 0 | G21: =Template!I37 -> 0 | H21: =Template!G37 -> 0 | I21: =Template!H37 -> 0 | J21: =Template!J37 -> 0 | K21: =Template!L37 -> 0 | L21: =Template!O37 -> 0 | M21: =Template!P37 -> 0 | N21: =Template!R37 -> 0 | O21: =Template!Q37 -> 0
A22: =Template!#REF! -> #REF! | B22: =Template!$L$4 -> 0
B23: =Template!$L$4 -> 0
